BEGIN:VCALENDAR
VERSION:2.0
CALSCALE:GREGORIAN
PRODID:adamgibbons/ics
METHOD:PUBLISH
X-PUBLISHED-TTL:PT1H
BEGIN:VEVENT
UID:162@rezonek.fr
SUMMARY:Circonova – Le Cabaret renversé
DTSTAMP:20260424T135154Z
DTSTART:20260530T180000Z
DTEND:20260530T192000Z
DESCRIPTION:Par Julien Candy / Cie La Faux Populaire\n\nCe soir\, c’est cab
	aret ! Sous la toile du chapiteau\, 120 convives\, des tables\,\ndes chais
	es de bistrot\, une piste circulaire et un tandem déjanté pour vous\naccue
	illir\, Julien Candy\, saltimbanque virtuose et l’irrésistible Juliette\nC
	hristmann. Au plus près des spectateurs\, le duo enchaîne les numéros : vé
	lo\nacrobatique\, lancer de couteaux\, funambulisme\, jonglage et acrobati
	es aériennes.\nSans oublier les intermèdes musicaux joués avec une trompet
	te\, une scie ou une\nguitare. On frissonne\, on rit\, l’ambiance est déli
	cieuse. Avec malice\, Julien\nCandy et sa partenaire renversent les situat
	ions et entraînent le public dans un\ntourbillon de numéros savoureux\, pr
	étexte à une exploration joyeuse de la vie de\ncouple\, de ses joies et se
	s contraintes. Un cabaret insolite à consommer sans\nmodération. Vous rése
	rvez votre table ?\n\nSur une idée de Julien Candy et Juliette Christmann 
	Écriture\, mise en scène\,\nscénographie Julien Candy Interprétation Julie
	tte Christmann\, Julien Candy\,\nLady et des convives\nDans le cadre de Ci
	rconova\, en partenariat avec le Théâtre de Cornouaille.\n\n\nSous chapite
	au chauffé en extérieur\nDès 6 ans – durée 1h20\nTarifs : plein 18€ / rédu
	it 10€
URL:https://rezonek.fr/event/circonova-le-cabaret-renverse-1
GEO:47.9860513;-4.4202054
LOCATION:Salle Avel-Dro - centre culturel du Haut Pays Bigouden - Avenue Ge
	orges Le Bail - 29710 Plozévet
STATUS:CONFIRMED
CATEGORIES:Théâtre,Pays Bigouden
X-ALT-DESC;FMTTYPE=text/html:<p><strong><em>Par Julien Candy / Cie La Faux 
	Populaire<br></em></strong><br>Ce soir, c’est cabaret ! Sous la toile du c
	hapiteau, 120 convives, des tables, des chaises de bistrot, une piste circ
	ulaire et un tandem déjanté pour vous accueillir, Julien Candy, saltimbanq
	ue virtuose et l’irrésistible Juliette Christmann. Au plus près des specta
	teurs, le duo enchaîne les numéros : vélo acrobatique, lancer de couteaux,
	 funambulisme, jonglage et acrobaties aériennes. Sans oublier les intermèd
	es musicaux joués avec une trompette, une scie ou une guitare. On frissonn
	e, on rit, l’ambiance est délicieuse. Avec malice, Julien Candy et sa part
	enaire renversent les situations et entraînent le public dans un tourbillo
	n de numéros savoureux, prétexte à une exploration joyeuse de la vie de co
	uple, de ses joies et ses contraintes. Un cabaret insolite à consommer san
	s modération. Vous réservez votre table ?</p><p><em>Sur une idée de&nbsp;J
	ulien Candy&nbsp;et&nbsp;Juliette Christmann&nbsp;Écriture, mise en scène,
	 scénographie&nbsp;Julien Candy&nbsp;Interprétation&nbsp;Juliette Christma
	nn, Julien Candy, Lady&nbsp;et des convives<br>Dans le cadre de Circonova,
	 en partenariat avec le Théâtre de Cornouaille.</em></p><p><em><br>Sous ch
	apiteau chauffé en extérieur<br></em>Dès 6 ans – durée 1h20<br>Tarifs : pl
	ein 18€ / réduit 10€</p>
BEGIN:VALARM
ACTION:DISPLAY
DESCRIPTION:Circonova – Le Cabaret renversé
TRIGGER:-PT1H
END:VALARM
END:VEVENT
END:VCALENDAR
