BEGIN:VCALENDAR
VERSION:2.0
CALSCALE:GREGORIAN
PRODID:adamgibbons/ics
METHOD:PUBLISH
X-PUBLISHED-TTL:PT1H
BEGIN:VEVENT
UID:161@rezonek.fr
SUMMARY:Circonova – Le Cabaret renversé
DTSTAMP:20260424T135045Z
DTSTART:20260529T180000Z
DTEND:20260529T192000Z
DESCRIPTION:Par Julien Candy / Cie La Faux Populaire\n\nCe soir\, c’est cab
	aret ! Sous la toile du chapiteau\, 120 convives\, des tables\,\ndes chais
	es de bistrot\, une piste circulaire et un tandem déjanté pour vous\naccue
	illir\, Julien Candy\, saltimbanque virtuose et l’irrésistible Juliette\nC
	hristmann. Au plus près des spectateurs\, le duo enchaîne les numéros : vé
	lo\nacrobatique\, lancer de couteaux\, funambulisme\, jonglage et acrobati
	es aériennes.\nSans oublier les intermèdes musicaux joués avec une trompet
	te\, une scie ou une\nguitare. On frissonne\, on rit\, l’ambiance est déli
	cieuse. Avec malice\, Julien\nCandy et sa partenaire renversent les situat
	ions et entraînent le public dans un\ntourbillon de numéros savoureux\, pr
	étexte à une exploration joyeuse de la vie de\ncouple\, de ses joies et se
	s contraintes. Un cabaret insolite à consommer sans\nmodération. Vous rése
	rvez votre table ?\n\nSur une idée de Julien Candy et Juliette Christmann 
	Écriture\, mise en scène\,\nscénographie Julien Candy Interprétation Julie
	tte Christmann\, Julien Candy\,\nLady et des convives\nDans le cadre de Ci
	rconova\, en partenariat avec le Théâtre de Cornouaille.\n\nSous chapiteau
	 chauffé en extérieur.
URL:https://rezonek.fr/event/circonova-le-cabaret-renverse
GEO:47.9860513;-4.4202054
LOCATION:Salle Avel-Dro - centre culturel du Haut Pays Bigouden - Avenue Ge
	orges Le Bail - 29710 Plozévet
STATUS:CONFIRMED
CATEGORIES:Théâtre,Pays Bigouden
X-ALT-DESC;FMTTYPE=text/html:<p><em>Par Julien Candy / Cie La Faux Populair
	e</em><strong><em><br></em></strong><br>Ce soir, c’est cabaret ! Sous la t
	oile du chapiteau, 120 convives, des tables, des chaises de bistrot, une p
	iste circulaire et un tandem déjanté pour vous accueillir, Julien Candy, s
	altimbanque virtuose et l’irrésistible Juliette Christmann. Au plus près d
	es spectateurs, le duo enchaîne les numéros : vélo acrobatique, lancer de 
	couteaux, funambulisme, jonglage et acrobaties aériennes. Sans oublier les
	 intermèdes musicaux joués avec une trompette, une scie ou une guitare. On
	 frissonne, on rit, l’ambiance est délicieuse. Avec malice, Julien Candy e
	t sa partenaire renversent les situations et entraînent le public dans un 
	tourbillon de numéros savoureux, prétexte à une exploration joyeuse de la 
	vie de couple, de ses joies et ses contraintes. Un cabaret insolite à cons
	ommer sans modération. Vous réservez votre table ?</p><p><em>Sur une idée 
	de&nbsp;Julien Candy&nbsp;et&nbsp;Juliette Christmann&nbsp;Écriture, mise 
	en scène, scénographie&nbsp;Julien Candy&nbsp;Interprétation&nbsp;Juliette
	 Christmann, Julien Candy, Lady&nbsp;et des convives<br>Dans le cadre de C
	irconova, en partenariat avec le Théâtre de Cornouaille.</em></p><p><em>So
	us chapiteau chauffé en extérieur.</em></p>
BEGIN:VALARM
ACTION:DISPLAY
DESCRIPTION:Circonova – Le Cabaret renversé
TRIGGER:-PT1H
END:VALARM
END:VEVENT
END:VCALENDAR
