BEGIN:VCALENDAR
VERSION:2.0
CALSCALE:GREGORIAN
PRODID:adamgibbons/ics
METHOD:PUBLISH
X-PUBLISHED-TTL:PT1H
BEGIN:VEVENT
UID:158@rezonek.fr
SUMMARY:La Langue des crêpes
DTSTAMP:20260424T135051Z
DTSTART:20260517T140000Z
DTEND:20260517T151500Z
DESCRIPTION:En tournant des crêpes\, Jean Philippe Davodeau s’interroge : p
	ourquoi ne lui\na-t-on pas transmis la langue bretonne que parlaient ses g
	rands-parents ?\nComment est-il possible de ne pas transmettre sa langue m
	aternelle ? En pleine\ncrise existentielle\, le comédien s’en remet alors 
	à la psychanalyse et à la\nsociologie pour comprendre ce qui s’est passé «
	 au pays ». En ouvrant la boîte\nde Pandore il se retrouve alors dépassé p
	ar des situations insensées. Nous voilà\npris dans un cabaret conférence d
	éjanté pour revenir aux racines du silence.\nAvec cette nouvelle création\
	, la compagnie Goémon Goéland initie une réflexion\nsur la non transmissio
	n des langues et sur les souffrances que cela engendre.\n\nMise en scène :
	 Jean Philippe Davodeau | Avec Jean-Pierre Quéré\, Bob Simon et\nJean-Phil
	ippe Davodeau | Scénographie : Romain Rambaud\n\nEn partenariat avec La Ma
	ison du Théâtre à Brest\n\nInfos pratiques :\nTout public à partir de 14 a
	ns\nDurée : 1h15\nTarifs : 10€ – Jauge limitée
URL:https://rezonek.fr/event/la-langue-des-crepes-1
GEO:47.9567951;-4.3673444
LOCATION:Hangar du Patrimoine à Pouldreuzic - Pendreff\, 29710 Pouldreuzic 
	- Finistère
STATUS:CONFIRMED
CATEGORIES:Théâtre,Pays Bigouden
X-ALT-DESC;FMTTYPE=text/html:<p>En tournant des crêpes, Jean Philippe Davod
	eau s’interroge : pourquoi ne lui a-t-on pas transmis la langue bretonne q
	ue parlaient ses grands-parents ? Comment est-il possible de ne pas transm
	ettre sa langue maternelle ? En pleine crise existentielle, le comédien s’
	en remet alors à la psychanalyse et à la sociologie pour comprendre ce qui
	 s’est passé « au pays ». En ouvrant la boîte de Pandore il se retrouve al
	ors dépassé par des situations insensées. Nous voilà pris dans un cabaret 
	conférence déjanté pour revenir aux racines du silence. Avec cette nouvell
	e création, la compagnie Goémon Goéland initie une réflexion sur la non tr
	ansmission des langues et sur les souffrances que cela engendre.</p><p><em
	>Mise en scène : Jean Philippe Davodeau | Avec Jean-Pierre Quéré, Bob Simo
	n et Jean-Philippe Davodeau | Scénographie : Romain Rambaud</em></p><p><em
	>En partenariat avec La Maison du Théâtre à Brest</em></p><p><strong>Infos
	 pratiques :<br></strong>Tout public à partir de 14 ans<br>Durée : 1h15<br
	>Tarifs : 10€ – Jauge limitée</p>
BEGIN:VALARM
ACTION:DISPLAY
DESCRIPTION:La Langue des crêpes
TRIGGER:-PT1H
END:VALARM
END:VEVENT
END:VCALENDAR
