BEGIN:VCALENDAR
VERSION:2.0
CALSCALE:GREGORIAN
PRODID:adamgibbons/ics
METHOD:PUBLISH
X-PUBLISHED-TTL:PT1H
BEGIN:VEVENT
UID:164@rezonek.fr
SUMMARY:Retours
DTSTAMP:20260424T134914Z
DTSTART:20260604T180000Z
DTEND:20260604T185000Z
DESCRIPTION:Retours\, pour l’éternel retour de ce fils disparu dans une ava
	lanche et qui\nrevient chez ses parents\, avant de disparaître et revenir 
	à nouveau\, encore et\nencore apportant un comique de situation grandissan
	t. Avec pour thème de\nprédilection les noyaux familiaux et les relations 
	parents-enfants\, le rythme de\nce texte\, à l’image d’une enquête policiè
	re\, installe doucement une proximité et\nune tension. Dans ce drame aux a
	pparences hyperréalistes – le salon-salle à\nmanger d’une maison d’aujourd
	’hui – Retours nous fait basculer progressivement\ndans une dimension fant
	astique où les repères temporels s’effritent et de\nsituation en situation
	\, crée un comique singulier et cruel.\n\nTEXTE : Fredrik Brattberg / MISE
	 EN SCÈNE ET SCÉNOGRAPHIE : Simon Delétang /\nAvec : Julien Chavrial / Pau
	line Moulène / Anselme Simon (jeune comédien\namateur)/ TRADUCTION : Terje
	 Sinding / LUMIÈRE : Jérôme Le Dimet / SON : Yannick\nAuffret / Nicolas Le
	spagnol-Rizzi / COSTUMES : Sandra Breiner\n\nProduction Théâtre de Lorient
	 – Centre dramatique national © Jean-Louis\nFernandez La pièce Retours de 
	Fredrik Brattberg (traduction de Terje Sinding)\nest représentée par\nL’AR
	CHE – agence théâtrale. www.arche-editeur.com [http://www.arche-editeur.co
	m]\n\nSpectacle créé le 10 novembre 2023 à Locmiquélic\, dans le cadre de 
	l’Itinérance\ndu Théâtre de Lorient – CDN\n\nInfos pratiques :\nTout publi
	c à public à partir de 12 ans\nDurée : 50 min\nTarif plein : 10€ | Tarif r
	éduit : 6€\n\n\n
URL:https://rezonek.fr/event/retours
GEO:47.9545079;-4.3608154
LOCATION:Salle Pierre Jakez Hélias - Pouldreuzic - Rue de la Mer\, Kergroaz
	\, Estrevet Du\, Pouldreuzic\, Quimper\, Finistère\, Bretagne\, France mét
	ropolitaine\, 29710\, France
STATUS:CONFIRMED
CATEGORIES:Théâtre,Pays Bigouden
X-ALT-DESC;FMTTYPE=text/html:<p><em>Retours</em>, pour l’éternel retour de 
	ce fils disparu dans une avalanche et qui revient chez ses parents, avant 
	de disparaître et revenir à nouveau, encore et encore apportant un comique
	 de situation grandissant. Avec pour thème de prédilection les noyaux fami
	liaux et les relations parents-enfants, le rythme de ce texte, à l’image d
	’une enquête policière, installe doucement une proximité et une tension. D
	ans ce drame aux apparences hyperréalistes – le salon-salle à manger d’une
	 maison d’aujourd’hui – Retours nous fait basculer progressivement dans un
	e dimension fantastique où les repères temporels s’effritent et de situati
	on en situation, crée un comique singulier et cruel.</p><p><em>TEXTE : Fre
	drik Brattberg / MISE EN SCÈNE ET SCÉNOGRAPHIE : Simon Delétang / Avec : J
	ulien Chavrial / Pauline Moulène / Anselme Simon (jeune comédien amateur)/
	 TRADUCTION : Terje Sinding / LUMIÈRE : Jérôme Le Dimet / SON : Yannick Au
	ffret / Nicolas Lespagnol-Rizzi / COSTUMES : Sandra Breiner</em></p><p>Pro
	duction Théâtre de Lorient – Centre dramatique national © Jean-Louis Ferna
	ndez La pièce Retours de Fredrik Brattberg (traduction de Terje Sinding) e
	st représentée par<br>L’ARCHE – agence théâtrale. <a target="_blank" href=
	"http://www.arche-editeur.com">www.arche-editeur.com</a></p><p><em>Spectac
	le créé le 10 novembre 2023 à Locmiquélic, dans le cadre de l’Itinérance d
	u Théâtre de Lorient – CDN</em></p><p><strong>Infos pratiques :</strong><b
	r>Tout public à public à partir de 12 ans<br>Durée : 50 min<br>Tarif plein
	 : 10€ | Tarif réduit : 6€</p><p><br></p>
BEGIN:VALARM
ACTION:DISPLAY
DESCRIPTION:Retours
TRIGGER:-PT1H
END:VALARM
END:VEVENT
END:VCALENDAR
