BEGIN:VCALENDAR
VERSION:2.0
CALSCALE:GREGORIAN
PRODID:adamgibbons/ics
METHOD:PUBLISH
X-PUBLISHED-TTL:PT1H
BEGIN:VEVENT
UID:159@rezonek.fr
SUMMARY:Parce que les vers n’ont pas besoin de pieds pour s’envoler
DTSTAMP:20260424T155252Z
DTSTART:20260520T140000Z
DTEND:20260520T144500Z
URL:https://rezonek.fr/event/parce-que-les-vers-nont-pas-besoin-de-pieds-po
	ur-senvoler
LOCATION:Bibliothèque de Plogastel-Saint-Germain - 1\, place du 19 mars 196
	2 29710 Plogastel-Saint-Germain
STATUS:CONFIRMED
CATEGORIES:Pays Bigouden,Théâtre
END:VEVENT
BEGIN:VEVENT
UID:160@rezonek.fr
SUMMARY:Parce que les vers n’ont pas besoin de pieds pour s’envoler
DTSTAMP:20260424T155252Z
DTSTART:20260523T083000Z
DTEND:20260523T134500Z
URL:https://rezonek.fr/event/parce-que-les-vers-nont-pas-besoin-de-pieds-po
	ur-senvoler-1
LOCATION:Bibliothèque de Plogastel-Saint-Germain - 1\, place du 19 mars 196
	2 29710 Plogastel-Saint-Germain
STATUS:CONFIRMED
CATEGORIES:Pays Bigouden,Théâtre
END:VEVENT
END:VCALENDAR
