BEGIN:VCALENDAR
VERSION:2.0
CALSCALE:GREGORIAN
PRODID:adamgibbons/ics
METHOD:PUBLISH
X-PUBLISHED-TTL:PT1H
BEGIN:VEVENT
UID:157@rezonek.fr
SUMMARY:La Langue des crêpes
DTSTAMP:20260424T154701Z
DTSTART:20260515T180000Z
DTEND:20260515T191500Z
URL:https://rezonek.fr/event/la-langue-des-crepes
GEO:47.9953354;-4.2817926
LOCATION:GAEC de St-Avé - Plogastel St Germain - Saint-Ave - 29710 Plogaste
	l-Saint-Germain - Finistère - Bretagne
STATUS:CONFIRMED
CATEGORIES:Finistere,Pays Bigouden,Plogastel-Saint-Germain,Théâtre
END:VEVENT
END:VCALENDAR
