BEGIN:VCALENDAR
VERSION:2.0
CALSCALE:GREGORIAN
PRODID:adamgibbons/ics
METHOD:PUBLISH
X-PUBLISHED-TTL:PT1H
BEGIN:VEVENT
UID:156@rezonek.fr
SUMMARY:BEFORE SUNSETS
DTSTAMP:20260420T233932Z
DTSTART:20260516T170000Z
DTEND:20260516T230000Z
URL:https://rezonek.fr/event/before-sunsets
GEO:47.9545079;-4.3608154
LOCATION:Salle Pierre Jakez Hélias - Pouldreuzic - Rue de la Mer\, Kergroaz
	\, Estrevet Du\, Pouldreuzic\, Quimper\, Finistère\, Bretagne\, France mét
	ropolitaine\, 29710\, France
STATUS:CONFIRMED
CATEGORIES:Concert,Finistere,Pouldreuzic,Reggae
END:VEVENT
END:VCALENDAR
